BEGIN:VCALENDAR
VERSION:2.0
PRODID:-//SC Citizens for Life - ECPv6.15.11//NONSGML v1.0//EN
CALSCALE:GREGORIAN
METHOD:PUBLISH
X-WR-CALNAME:SC Citizens for Life
X-ORIGINAL-URL:https://sclife.org
X-WR-CALDESC:Events for SC Citizens for Life
REFRESH-INTERVAL;VALUE=DURATION:PT1H
X-Robots-Tag:noindex
X-PUBLISHED-TTL:PT1H
BEGIN:VTIMEZONE
TZID:America/New_York
BEGIN:DAYLIGHT
TZOFFSETFROM:-0500
TZOFFSETTO:-0400
TZNAME:EDT
DTSTART:20240310T070000
END:DAYLIGHT
BEGIN:STANDARD
TZOFFSETFROM:-0400
TZOFFSETTO:-0500
TZNAME:EST
DTSTART:20241103T060000
END:STANDARD
BEGIN:DAYLIGHT
TZOFFSETFROM:-0500
TZOFFSETTO:-0400
TZNAME:EDT
DTSTART:20250309T070000
END:DAYLIGHT
BEGIN:STANDARD
TZOFFSETFROM:-0400
TZOFFSETTO:-0500
TZNAME:EST
DTSTART:20251102T060000
END:STANDARD
BEGIN:DAYLIGHT
TZOFFSETFROM:-0500
TZOFFSETTO:-0400
TZNAME:EDT
DTSTART:20260308T070000
END:DAYLIGHT
BEGIN:STANDARD
TZOFFSETFROM:-0400
TZOFFSETTO:-0500
TZNAME:EST
DTSTART:20261101T060000
END:STANDARD
END:VTIMEZONE
BEGIN:VEVENT
DTSTART;TZID=America/New_York:20250918T183000
DTEND;TZID=America/New_York:20250918T200000
DTSTAMP:20260423T184604
CREATED:20250214T203524Z
LAST-MODIFIED:20250214T203524Z
UID:10000309-1758220200-1758225600@sclife.org
SUMMARY:Oconee County Chapter Meeting
DESCRIPTION:
URL:https://sclife.org/event/oconee-county-citizens-for-life/2025-09-18/
LOCATION:Oconee Christian Academy\, 150 His Way Circle\, West Union\, SC\, 29696\, United States
CATEGORIES:Meeting
END:VEVENT
BEGIN:VEVENT
DTSTART;TZID=America/New_York:20250619T183000
DTEND;TZID=America/New_York:20250619T200000
DTSTAMP:20260423T184604
CREATED:20250214T203524Z
LAST-MODIFIED:20250214T203524Z
UID:10000308-1750357800-1750363200@sclife.org
SUMMARY:Oconee County Chapter Meeting
DESCRIPTION:
URL:https://sclife.org/event/oconee-county-citizens-for-life/2025-06-19/
LOCATION:Oconee Christian Academy\, 150 His Way Circle\, West Union\, SC\, 29696\, United States
CATEGORIES:Meeting
END:VEVENT
BEGIN:VEVENT
DTSTART;TZID=America/New_York:20250320T183000
DTEND;TZID=America/New_York:20250320T200000
DTSTAMP:20260423T184604
CREATED:20250214T203524Z
LAST-MODIFIED:20250214T203524Z
UID:10000307-1742495400-1742500800@sclife.org
SUMMARY:Oconee County Chapter Meeting
DESCRIPTION:
URL:https://sclife.org/event/oconee-county-citizens-for-life/2025-03-20/
LOCATION:Oconee Christian Academy\, 150 His Way Circle\, West Union\, SC\, 29696\, United States
CATEGORIES:Meeting
END:VEVENT
END:VCALENDAR