BEGIN:VCALENDAR
VERSION:2.0
PRODID:-//SC Citizens for Life - ECPv6.15.11//NONSGML v1.0//EN
CALSCALE:GREGORIAN
METHOD:PUBLISH
X-WR-CALNAME:SC Citizens for Life
X-ORIGINAL-URL:https://sclife.org
X-WR-CALDESC:Events for SC Citizens for Life
REFRESH-INTERVAL;VALUE=DURATION:PT1H
X-Robots-Tag:noindex
X-PUBLISHED-TTL:PT1H
BEGIN:VTIMEZONE
TZID:America/New_York
BEGIN:DAYLIGHT
TZOFFSETFROM:-0500
TZOFFSETTO:-0400
TZNAME:EDT
DTSTART:20230312T070000
END:DAYLIGHT
BEGIN:STANDARD
TZOFFSETFROM:-0400
TZOFFSETTO:-0500
TZNAME:EST
DTSTART:20231105T060000
END:STANDARD
BEGIN:DAYLIGHT
TZOFFSETFROM:-0500
TZOFFSETTO:-0400
TZNAME:EDT
DTSTART:20240310T070000
END:DAYLIGHT
BEGIN:STANDARD
TZOFFSETFROM:-0400
TZOFFSETTO:-0500
TZNAME:EST
DTSTART:20241103T060000
END:STANDARD
BEGIN:DAYLIGHT
TZOFFSETFROM:-0500
TZOFFSETTO:-0400
TZNAME:EDT
DTSTART:20250309T070000
END:DAYLIGHT
BEGIN:STANDARD
TZOFFSETFROM:-0400
TZOFFSETTO:-0500
TZNAME:EST
DTSTART:20251102T060000
END:STANDARD
BEGIN:DAYLIGHT
TZOFFSETFROM:-0500
TZOFFSETTO:-0400
TZNAME:EDT
DTSTART:20260308T070000
END:DAYLIGHT
BEGIN:STANDARD
TZOFFSETFROM:-0400
TZOFFSETTO:-0500
TZNAME:EST
DTSTART:20261101T060000
END:STANDARD
END:VTIMEZONE
BEGIN:VEVENT
DTSTART;TZID=America/New_York:20250930T183000
DTEND;TZID=America/New_York:20250930T200000
DTSTAMP:20260423T183426
CREATED:20250930T222833Z
LAST-MODIFIED:20250930T222834Z
UID:10000315-1759257000-1759262400@sclife.org
SUMMARY:Oconee County Chapter Meeting
DESCRIPTION:
URL:https://sclife.org/event/oconee-county-citizens-for-life-2-2/
LOCATION:St. Andrew Catholic Church\, 209 Sloan Street\, Clemson\, SC\, 29631\, United States
CATEGORIES:Meeting
END:VEVENT
BEGIN:VEVENT
DTSTART;TZID=America/New_York:20250918T183000
DTEND;TZID=America/New_York:20250918T200000
DTSTAMP:20260423T183426
CREATED:20250214T203524Z
LAST-MODIFIED:20250214T203524Z
UID:10000309-1758220200-1758225600@sclife.org
SUMMARY:Oconee County Chapter Meeting
DESCRIPTION:
URL:https://sclife.org/event/oconee-county-citizens-for-life/2025-09-18/
LOCATION:Oconee Christian Academy\, 150 His Way Circle\, West Union\, SC\, 29696\, United States
CATEGORIES:Meeting
END:VEVENT
BEGIN:VEVENT
DTSTART;TZID=America/New_York:20250821T183000
DTEND;TZID=America/New_York:20250821T200000
DTSTAMP:20260423T183426
CREATED:20250214T202351Z
LAST-MODIFIED:20250214T202351Z
UID:10000303-1755801000-1755806400@sclife.org
SUMMARY:Oconee County Chapter Meeting
DESCRIPTION:
URL:https://sclife.org/event/oconee-county-chapter-meeting-2/2025-08-21/
LOCATION:Knights of Columbus Council Hall\, 112 E. North 2nd Street\, Seneca\, 29678\, United States
CATEGORIES:Meeting
END:VEVENT
BEGIN:VEVENT
DTSTART;TZID=America/New_York:20250717T183000
DTEND;TZID=America/New_York:20250717T200000
DTSTAMP:20260423T183426
CREATED:20250214T203805Z
LAST-MODIFIED:20250214T203805Z
UID:10000314-1752777000-1752782400@sclife.org
SUMMARY:Oconee County Chapter Meeting
DESCRIPTION:
URL:https://sclife.org/event/oconee-county-citizens-for-life-2/2025-07-17/
LOCATION:St. Andrew Catholic Church\, 209 Sloan Street\, Clemson\, SC\, 29631\, United States
CATEGORIES:Meeting
END:VEVENT
BEGIN:VEVENT
DTSTART;TZID=America/New_York:20250619T183000
DTEND;TZID=America/New_York:20250619T200000
DTSTAMP:20260423T183426
CREATED:20250214T203524Z
LAST-MODIFIED:20250214T203524Z
UID:10000308-1750357800-1750363200@sclife.org
SUMMARY:Oconee County Chapter Meeting
DESCRIPTION:
URL:https://sclife.org/event/oconee-county-citizens-for-life/2025-06-19/
LOCATION:Oconee Christian Academy\, 150 His Way Circle\, West Union\, SC\, 29696\, United States
CATEGORIES:Meeting
END:VEVENT
BEGIN:VEVENT
DTSTART;TZID=America/New_York:20250515T183000
DTEND;TZID=America/New_York:20250515T200000
DTSTAMP:20260423T183426
CREATED:20250214T202351Z
LAST-MODIFIED:20250214T202351Z
UID:10000302-1747333800-1747339200@sclife.org
SUMMARY:Oconee County Chapter Meeting
DESCRIPTION:
URL:https://sclife.org/event/oconee-county-chapter-meeting-2/2025-05-15/
LOCATION:Knights of Columbus Council Hall\, 112 E. North 2nd Street\, Seneca\, 29678\, United States
CATEGORIES:Meeting
END:VEVENT
BEGIN:VEVENT
DTSTART;TZID=America/New_York:20250417T183000
DTEND;TZID=America/New_York:20250417T200000
DTSTAMP:20260423T183426
CREATED:20250214T203805Z
LAST-MODIFIED:20250214T203805Z
UID:10000313-1744914600-1744920000@sclife.org
SUMMARY:Oconee County Chapter Meeting
DESCRIPTION:
URL:https://sclife.org/event/oconee-county-citizens-for-life-2/2025-04-17/
LOCATION:St. Andrew Catholic Church\, 209 Sloan Street\, Clemson\, SC\, 29631\, United States
CATEGORIES:Meeting
END:VEVENT
BEGIN:VEVENT
DTSTART;TZID=America/New_York:20250320T183000
DTEND;TZID=America/New_York:20250320T200000
DTSTAMP:20260423T183426
CREATED:20250214T203524Z
LAST-MODIFIED:20250214T203524Z
UID:10000307-1742495400-1742500800@sclife.org
SUMMARY:Oconee County Chapter Meeting
DESCRIPTION:
URL:https://sclife.org/event/oconee-county-citizens-for-life/2025-03-20/
LOCATION:Oconee Christian Academy\, 150 His Way Circle\, West Union\, SC\, 29696\, United States
CATEGORIES:Meeting
END:VEVENT
BEGIN:VEVENT
DTSTART;TZID=America/New_York:20250220T183000
DTEND;TZID=America/New_York:20250220T200000
DTSTAMP:20260423T183426
CREATED:20250214T202351Z
LAST-MODIFIED:20250214T202351Z
UID:10000301-1740076200-1740081600@sclife.org
SUMMARY:Oconee County Chapter Meeting
DESCRIPTION:
URL:https://sclife.org/event/oconee-county-chapter-meeting-2/2025-02-20/
LOCATION:Knights of Columbus Council Hall\, 112 E. North 2nd Street\, Seneca\, 29678\, United States
CATEGORIES:Meeting
END:VEVENT
BEGIN:VEVENT
DTSTART;TZID=America/New_York:20240926T183000
DTEND;TZID=America/New_York:20240926T200000
DTSTAMP:20260423T183426
CREATED:20240912T212640Z
LAST-MODIFIED:20240912T212640Z
UID:10000294-1727375400-1727380800@sclife.org
SUMMARY:Oconee County Chapter Meeting
DESCRIPTION:
URL:https://sclife.org/event/oconee-county-chapter-meeting/
LOCATION:St. Andrew Catholic Church\, 209 Sloan Street\, Clemson\, SC\, 29631\, United States
END:VEVENT
END:VCALENDAR