BEGIN:VCALENDAR
VERSION:2.0
PRODID:-//SC Citizens for Life - ECPv6.15.11//NONSGML v1.0//EN
CALSCALE:GREGORIAN
METHOD:PUBLISH
X-ORIGINAL-URL:https://sclife.org
X-WR-CALDESC:Events for SC Citizens for Life
REFRESH-INTERVAL;VALUE=DURATION:PT1H
X-Robots-Tag:noindex
X-PUBLISHED-TTL:PT1H
BEGIN:VTIMEZONE
TZID:America/New_York
BEGIN:DAYLIGHT
TZOFFSETFROM:-0500
TZOFFSETTO:-0400
TZNAME:EDT
DTSTART:20230312T070000
END:DAYLIGHT
BEGIN:STANDARD
TZOFFSETFROM:-0400
TZOFFSETTO:-0500
TZNAME:EST
DTSTART:20231105T060000
END:STANDARD
BEGIN:DAYLIGHT
TZOFFSETFROM:-0500
TZOFFSETTO:-0400
TZNAME:EDT
DTSTART:20240310T070000
END:DAYLIGHT
BEGIN:STANDARD
TZOFFSETFROM:-0400
TZOFFSETTO:-0500
TZNAME:EST
DTSTART:20241103T060000
END:STANDARD
BEGIN:DAYLIGHT
TZOFFSETFROM:-0500
TZOFFSETTO:-0400
TZNAME:EDT
DTSTART:20250309T070000
END:DAYLIGHT
BEGIN:STANDARD
TZOFFSETFROM:-0400
TZOFFSETTO:-0500
TZNAME:EST
DTSTART:20251102T060000
END:STANDARD
END:VTIMEZONE
BEGIN:VEVENT
DTSTART;TZID=America/New_York:20240815T183000
DTEND;TZID=America/New_York:20240815T193000
DTSTAMP:20260423T075207
CREATED:20240117T211516Z
LAST-MODIFIED:20240117T211516Z
UID:10000069-1723746600-1723750200@sclife.org
SUMMARY:Richland County Chapter Meeting
DESCRIPTION:
URL:https://sclife.org/event/richland-county-chapter-meeting/2024-08-15/
LOCATION:Richland County Public Library\, 1431 Assembly St\, Columbia\, SC\, 29201\, United States
END:VEVENT
BEGIN:VEVENT
DTSTART;TZID=America/New_York:20240819T180000
DTEND;TZID=America/New_York:20240819T190000
DTSTAMP:20260423T075207
CREATED:20240807T192550Z
LAST-MODIFIED:20240812T205908Z
UID:10000207-1724090400-1724094000@sclife.org
SUMMARY:Lexington County Citizens for Life
DESCRIPTION:Lexington County Citizens for Life meets quarterly on the third Monday at Mt. Horeb Church in Fellowship Hall\, Room 130.\n*Park in the parking lot to the right of the baseball field and follow the signs.
URL:https://sclife.org/event/lexington-county-citizens-for-life-2/2024-08-19/
LOCATION:Mt Horeb Church\, 1205 Old Cherokee Road\, Lexington\, SC\, 29072\, United States
ORGANIZER;CN="Lexington County Citizens for Life":MAILTO:lexington@sclife.org
END:VEVENT
BEGIN:VEVENT
DTSTART;TZID=America/New_York:20240819T190000
DTEND;TZID=America/New_York:20240819T200000
DTSTAMP:20260423T075207
CREATED:20240117T211741Z
LAST-MODIFIED:20240117T211741Z
UID:10000129-1724094000-1724097600@sclife.org
SUMMARY:Orangeburg County Chapter Meeting
DESCRIPTION:
URL:https://sclife.org/event/orangeburg-county-chapter-meeting/2024-08-19/
LOCATION:Orangeburg County Fine Arts Center\, 649 Riverside Drive\, Orangeburg\, SC\, 29115\, United States
END:VEVENT
END:VCALENDAR